BEGIN:VCALENDAR
VERSION:2.0
PRODID:-//Vermont Conservation Voters - ECPv6.9.0//NONSGML v1.0//EN
CALSCALE:GREGORIAN
METHOD:PUBLISH
X-ORIGINAL-URL:https://vermontconservationvoters.com
X-WR-CALDESC:Events for Vermont Conservation Voters
REFRESH-INTERVAL;VALUE=DURATION:PT1H
X-Robots-Tag:noindex
X-PUBLISHED-TTL:PT1H
BEGIN:VTIMEZONE
TZID:America/New_York
BEGIN:DAYLIGHT
TZOFFSETFROM:-0500
TZOFFSETTO:-0400
TZNAME:EDT
DTSTART:20240310T070000
END:DAYLIGHT
BEGIN:STANDARD
TZOFFSETFROM:-0400
TZOFFSETTO:-0500
TZNAME:EST
DTSTART:20241103T060000
END:STANDARD
END:VTIMEZONE
BEGIN:VEVENT
DTSTART;TZID=America/New_York:20241007T183000
DTEND;TZID=America/New_York:20241007T200000
DTSTAMP:20260420T030252
CREATED:20240924T141449Z
LAST-MODIFIED:20240924T141859Z
UID:5049-1728325800-1728331200@vermontconservationvoters.com
SUMMARY:Candidate Forum: Chittenden-17 House
DESCRIPTION:2024 Chittenden-17 House Candidate Forum \nMonday\, October 7th\n6:30pm-8pm \nLake Champlain Sailing Center\, 505 Lake Street\, Burlington\, VT \nVermont Conservation Voters\, Vermont-NEA\, Rights and Democracy\, and VPIRG have invited the candidates of Chittenden-17 House District\, Missa Aloisi and Abbey Duke\, to an issues-based candidate forum. \nJoin us to learn more about the candidates as we ask them how they will prioritize climate resilience\, public education\, housing\, and the legislature’s role in leading the state.
URL:https://vermontconservationvoters.com/event/candidate-forum-chittenden-17-house/
LOCATION:Lake Champlain Sailing Center\, 505 Lake Street\, Burlington\, VT\, 05401\, United States
CATEGORIES:Elections
ATTACH;FMTTYPE=image/png:https://vermontconservationvoters.com/wp-content/uploads/2024/09/CHI17_horizontal-banner.png
ORGANIZER;CN="Justin Marsh":MAILTO:jmarsh@vermontconservationvoters.org
END:VEVENT
END:VCALENDAR