BEGIN:VCALENDAR
VERSION:2.0
PRODID:-//Vermont Conservation Voters - ECPv6.9.0//NONSGML v1.0//EN
CALSCALE:GREGORIAN
METHOD:PUBLISH
X-WR-CALNAME:Vermont Conservation Voters
X-ORIGINAL-URL:https://vermontconservationvoters.com
X-WR-CALDESC:Events for Vermont Conservation Voters
REFRESH-INTERVAL;VALUE=DURATION:PT1H
X-Robots-Tag:noindex
X-PUBLISHED-TTL:PT1H
BEGIN:VTIMEZONE
TZID:America/New_York
BEGIN:DAYLIGHT
TZOFFSETFROM:-0500
TZOFFSETTO:-0400
TZNAME:EDT
DTSTART:20230312T070000
END:DAYLIGHT
BEGIN:STANDARD
TZOFFSETFROM:-0400
TZOFFSETTO:-0500
TZNAME:EST
DTSTART:20231105T060000
END:STANDARD
BEGIN:DAYLIGHT
TZOFFSETFROM:-0500
TZOFFSETTO:-0400
TZNAME:EDT
DTSTART:20240310T070000
END:DAYLIGHT
BEGIN:STANDARD
TZOFFSETFROM:-0400
TZOFFSETTO:-0500
TZNAME:EST
DTSTART:20241103T060000
END:STANDARD
END:VTIMEZONE
BEGIN:VEVENT
DTSTART;TZID=America/New_York:20240407T143000
DTEND;TZID=America/New_York:20240407T153000
DTSTAMP:20260420T220317
CREATED:20240325T142852Z
LAST-MODIFIED:20240325T142852Z
UID:4806-1712500200-1712503800@vermontconservationvoters.com
SUMMARY:VCV Rutland County Community Forum: Castleton
DESCRIPTION:Join us for an informative and engaging public forum where you can connect with your state legislators and gain valuable insights into crucial environmental legislation currently under consideration. We’re pleased to be bringing Rep. William Notte (D-Rutland\, RUT-7) to Castleton for this special event on April 7th at 2:30pm at Castleton Free Library. Your presence and input are vital as we work together to shape the future of our community’s environmental policies. Don’t miss this opportunity to be informed and make your voice heard!
URL:https://vermontconservationvoters.com/event/vcv-rutland-county-community-forum-castleton/
LOCATION:Castleton Free Library\, 638 Main St\, Castleton\, VT\, United States
CATEGORIES:Climate,Policies,Vermont Legislature
ATTACH;FMTTYPE=image/png:https://vermontconservationvoters.com/wp-content/uploads/2024/02/Community-Forum-Posters-2000-x-2000-px-1920-x-1080-px.png
ORGANIZER;CN="Erika Faulkner":MAILTO:efaulkner@vermontconservationvoters.org
END:VEVENT
BEGIN:VEVENT
DTSTART;TZID=America/New_York:20240407T130000
DTEND;TZID=America/New_York:20240407T140000
DTSTAMP:20260420T220317
CREATED:20240319T163241Z
LAST-MODIFIED:20240325T142912Z
UID:4777-1712494800-1712498400@vermontconservationvoters.com
SUMMARY:VCV Rutland County Community Forum: Wallingford
DESCRIPTION:Join us for an informative and engaging public forum where you can connect with your state legislators and gain valuable insights into crucial environmental legislation currently under consideration. We’re pleased to be bringing Rep. William Notte (D-Rutland\, RUT-7) and Rep. Mike Rice (D-Dorset\, BEN-RUT) to Wallingford for this special event on April 7th at 1pm at Sweet Birch Bakery. Your presence and input are vital as we work together to shape the future of our community’s environmental policies. Don’t miss this opportunity to be informed and make your voice heard!
URL:https://vermontconservationvoters.com/event/rutland/
LOCATION:Sweet Birch Bakery\, 15 South Main St\, Wallingford\, VT
CATEGORIES:Climate,Policies,Vermont Legislature
ATTACH;FMTTYPE=image/png:https://vermontconservationvoters.com/wp-content/uploads/2024/02/Community-Forum-Posters-2000-x-2000-px-1920-x-1080-px.png
ORGANIZER;CN="Erika Faulkner":MAILTO:efaulkner@vermontconservationvoters.org
END:VEVENT
BEGIN:VEVENT
DTSTART;TZID=America/New_York:20240314T180000
DTEND;TZID=America/New_York:20240314T190000
DTSTAMP:20260420T220317
CREATED:20240220T160825Z
LAST-MODIFIED:20240220T172814Z
UID:4726-1710439200-1710442800@vermontconservationvoters.com
SUMMARY:VCV Orleans County Community Forum
DESCRIPTION:Join us for an informative and engaging public forum where you can connect with your state legislators and gain valuable insights into crucial environmental legislation currently under consideration. We’re pleased to be bringing Rep. Katherine Sims (D-Craftsbury / ORL-4) and Rep. David Templeman (D-Brownington / ORL-3) to West Glover for this special event on March 14th at 6pm at the Parker Pie Co. Your presence and input are vital as we work together to shape the future of our community’s environmental policies. Don’t miss this opportunity to be informed and make your voice heard!
URL:https://vermontconservationvoters.com/event/vcv-orleans-county-community-forum/
LOCATION:Parker Pie Co.\, 161 County Rd.\, West Glover\, United States
CATEGORIES:Climate,Policies,Vermont Legislature
ATTACH;FMTTYPE=image/png:https://vermontconservationvoters.com/wp-content/uploads/2024/02/Community-Forum-Posters-2000-x-2000-px-1920-x-1080-px.png
ORGANIZER;CN="Justin Marsh":MAILTO:jmarsh@vermontconservationvoters.org
END:VEVENT
BEGIN:VEVENT
DTSTART;TZID=America/New_York:20240302T140000
DTEND;TZID=America/New_York:20240302T150000
DTSTAMP:20260420T220317
CREATED:20240220T154843Z
LAST-MODIFIED:20240220T154843Z
UID:4720-1709388000-1709391600@vermontconservationvoters.com
SUMMARY:VCV Milton Community Forum
DESCRIPTION:Join us for an informative and engaging public forum where you can connect with your state legislators and gain valuable insights into crucial environmental legislation currently under consideration. We’re pleased to be bringing Rep. Josie Leavitt (D-Grand Isle / GI-CHI) and Rep. Julia Andrews (D-Westford / CHI-25) to Milton for this special event on March 2nd at 2pm at the Painted Lady Cafe. Your presence and input are vital as we work together to shape the future of our community’s environmental policies. Don’t miss this opportunity to be informed and make your voice heard!
URL:https://vermontconservationvoters.com/event/vcv-milton-community-forum/
LOCATION:Painted Lady Cafe\, 15 Cherry St\, Milton\, VT\, 05468\, United States
CATEGORIES:Climate,Policies,Vermont Legislature
ATTACH;FMTTYPE=image/png:https://vermontconservationvoters.com/wp-content/uploads/2024/02/Community-Forum-Posters-2000-x-2000-px-1920-x-1080-px.png
ORGANIZER;CN="Justin Marsh":MAILTO:jmarsh@vermontconservationvoters.org
END:VEVENT
BEGIN:VEVENT
DTSTART;TZID=America/New_York:20240201T110000
DTEND;TZID=America/New_York:20240201T180000
DTSTAMP:20260420T220317
CREATED:20240118T160652Z
LAST-MODIFIED:20240118T160652Z
UID:4664-1706785200-1706810400@vermontconservationvoters.com
SUMMARY:Businesses for Climate Action Day
DESCRIPTION:WHAT: Businesses for Climate Action Day\nVBSR\, Seventh Generation\, SunCommon\, and VPIRG have partnered to deliver a powerful\nmessage to Vermont legislators in support of bold climate action.\nWHY: Impact Climate-Related Legislation in VT\nThe future of our climate is the future of our economy. If you want to make a difference\, bringing\nyour voice to the Statehouse is one of the most impactful things you can do.\nWHEN: Thursday\, February 1\, 2024\nOn Thursday\, February 1\, from 9:30 a.m. through 6:00 p.m. participants will have ample\nopportunity to learn\, take action\, and network.\nWHERE: Montpelier\, VT (Various Locations)\nFrom the State House Pavilion to the State House Cedar Creek Room to the Three Penny\nTaproom\, participants will have an impact – all within a walkable .3 mile area.\nHOW: Register Online\nParticipants can register online for this free day of action.\nDETAILS: Moments to Make an Impact and Connect \n● Business Leaders – Issue Briefing and Advocacy Training\no 9:30 – 10:30 AM | RSVP for details\no Leaders of VBSR member organizations will discuss the day ahead\, get briefed\non the issues at play this session\, and learn about advocacy opportunities. \n● Business Leaders – Press Conference\no 11:00 – 11:30 AM | Cedar Creek Room\, Vermont State House\, Second Floor\no Leaders of VBSR member organizations will join VBSR and VPIRG to urge\nlegislators\, other businesses\, and the people of Vermont to support bold climate\naction this legislative session. \n● Business Leaders – Coordinated Meetings with Legislators\no 11:30 AM – 1:00 PM | Various locations in the State House building\no In meetings with legislators\, leaders of VBSR member organizations will urge\nthem to support bold climate action this legislative session. \n● Climate-Focused Professional Development\no 1:00 PM – 4:00 PM | RSVP for details\no Join other employees of Vermont businesses for an afternoon of professional\ndevelopment designed to drive bold climate action in our state. \n● Networking Meetup at Three Penny Taproom\no 4:00 PM – 6:00 PM | Three Penny Taproom\, 108 Main St\, Montpelier\no Connect with VBSR staff\, policymakers\, and business leaders to network
URL:https://vermontconservationvoters.com/event/businesses-for-climate-action-day/
LOCATION:VT
CATEGORIES:Climate
ATTACH;FMTTYPE=image/png:https://vermontconservationvoters.com/wp-content/uploads/2024/01/BFCA_2024_date-top_1080x1080.png
END:VEVENT
BEGIN:VEVENT
DTSTART;TZID=America/New_York:20240117T120000
DTEND;TZID=America/New_York:20240117T130000
DTSTAMP:20260420T220317
CREATED:20240117T200109Z
LAST-MODIFIED:20240117T200109Z
UID:4652-1705492800-1705496400@vermontconservationvoters.com
SUMMARY:Environmental Justice Webinar
DESCRIPTION:Join the Vermont Energy & Climate Action Network (VECAN) next Wednesday\, January 17th\, at 12pm for a webinar to delve into how local initiatives can address environmental challenges\, advocate for underprivileged communities\, and work towards a more inclusive and environmentally responsible Vermont. This webinar offers a platform for meaningful dialogue and collaborative solutions to create a greener and fairer future for all Vermonters. Hear from Karla Raimundi\, Agency of Natural Resources Director of Environmental Justice and Civil Rights; Sophi Veltrop\, the Vermont Climate Action Office’s Community Engagement & Communications Coordinator; and Elena Mihaly\, Vice President of Conservation Law Foundation Vermont.  Register Here
URL:https://vermontconservationvoters.com/event/environmental-justice-webinar/
LOCATION:VT
CATEGORIES:Climate
END:VEVENT
BEGIN:VEVENT
DTSTART;TZID=America/New_York:20240116T121500
DTEND;TZID=America/New_York:20240116T123000
DTSTAMP:20260420T220317
CREATED:20240117T200304Z
LAST-MODIFIED:20240117T200305Z
UID:4654-1705407300-1705408200@vermontconservationvoters.com
SUMMARY:Press Conference: Make Big Oil Pay
DESCRIPTION:Cedar Creek Room
URL:https://vermontconservationvoters.com/event/press-conference-make-big-oil-pay/
LOCATION:VT
CATEGORIES:Make Big Oil Pay,Policies
END:VEVENT
BEGIN:VEVENT
DTSTART;TZID=America/New_York:20240110T163000
DTEND;TZID=America/New_York:20240110T183000
DTSTAMP:20260420T220317
CREATED:20240104T153342Z
LAST-MODIFIED:20240104T153342Z
UID:4590-1704904200-1704911400@vermontconservationvoters.com
SUMMARY:2024 Common Agenda Reception
DESCRIPTION:You are invited to the unveiling of the 2024 Environmental Common Agenda on Wednesday\, January 10th\, starting at 4:30pm. We will be Upstairs at Hugo’s Bar & Grill on 44 Main Street in Montpelier. Refreshments will be provided and a cash bar will be available. \nThis agenda\, developed in collaboration with a range of partner organizations\, outlines our shared priorities for this legislative session. This event offers an invaluable opportunity to engage with climate experts\, mingle with fellow legislators\, and address your questions about this year’s environmental priorities. \nThe 2024 Environmental Common Agenda is in Partnership with: \nAudubon Vermont \nConnecticut River Conservancy (CRC) \nConservation Law Foundation (CLF) \nLake Champlain Committee (LCC) \nPreservation Trust of Vermont \nRenewable Energy Vermont (REV) \nRights & Democracy (RAD) \nSlingshot \nThe Vermont Climate and Health Alliance \nLand Trust for Public Lands (TPL) \nThird Act Vermont \n350VT \nVermont Businesses for Social Responsibility (VBSR) \nVermont Chapter of Sierra Club \nVermont Conservation Voters (VCV) \nVermont Council of Trout Unlimited \nVermont Interfaith Power & Light (VTIPL) \nVermont Natural Resources Council (VNRC) \nVermont Public Interest Research Group (VPIRG)
URL:https://vermontconservationvoters.com/event/2024-common-agenda-reception/
LOCATION:Upstairs at Hugo’s\, 44 Main St\, Montpelier\, VT\, United States
CATEGORIES:Policies,Vermont Legislature
ATTACH;FMTTYPE=image/png:https://vermontconservationvoters.com/wp-content/uploads/2024/01/Common-Agenda-Reception.png
END:VEVENT
BEGIN:VEVENT
DTSTART;TZID=America/New_York:20240108T120000
DTEND;TZID=America/New_York:20240108T130000
DTSTAMP:20260420T220317
CREATED:20231213T213045Z
LAST-MODIFIED:20240103T210438Z
UID:668-1704715200-1704718800@vermontconservationvoters.com
SUMMARY:Climate Resiliency - What’s Needed\, What’s Possible
DESCRIPTION:As we continue to recover and rebuild in communities ravaged by floods across central Vermont we were once again reminded that our state needs to take proactive action to build the resilience we need.  We must reduce flood risks with nature-based solutions\, invest in climate-resilient infrastructure\, improve government response and capacity\, and implement a suite of funding solutions to make these critical investments.  Join us on Monday January 8th 2024 for Climate Resiliency – What’s Needed\, What’s Possible to learn more about these solutions and how you can get involved in creating a more resilient Vermont. Register Here: https://us02web.zoom.us/meeting/register/tZwsd-Gorj0pGtAGsHC3nqspzicpYeyvHYQx#/registration
URL:https://vermontconservationvoters.com/event/climate-resiliency-whats-needed-whats-possible/
LOCATION:Zoom
CATEGORIES:Climate
ATTACH;FMTTYPE=image/png:https://vermontconservationvoters.com/wp-content/uploads/2023/12/energy-webinars-banners-Medium-Banner-US-Landscape.png
END:VEVENT
BEGIN:VEVENT
DTSTART;TZID=America/New_York:20231218T120000
DTEND;TZID=America/New_York:20231218T130000
DTSTAMP:20260420T220317
CREATED:20231213T200256Z
LAST-MODIFIED:20231213T200256Z
UID:659-1702900800-1702904400@vermontconservationvoters.com
SUMMARY:Making Big Oil Pay: A Deep- Dive on the Policy Plan
DESCRIPTION:As flood waters recede and Vermonters begin to rebuild\, two things are becoming clear. Disasters like these are extraordinarily expensive. The costs to repair damage to homes and infrastructure will be astronomical\, not to mention the destruction of priceless memories\, heirlooms\, and lives. And second\, this storm was not a fluke. Come learn how those who profited off the dirty energy systems that caused the climate crisis should be the ones to pay the price.
URL:https://vermontconservationvoters.com/event/making-big-oil-pay-a-deep-dive-on-the-policy-plan/
LOCATION:Zoom
CATEGORIES:Climate
ATTACH;FMTTYPE=image/jpeg:https://vermontconservationvoters.com/wp-content/uploads/2023/12/MBOP_Webinar.jpeg
END:VEVENT
BEGIN:VEVENT
DTSTART;TZID=America/New_York:20231215T120000
DTEND;TZID=America/New_York:20231215T130000
DTSTAMP:20260420T220317
CREATED:20231214T135202Z
LAST-MODIFIED:20231214T135202Z
UID:684-1702641600-1702645200@vermontconservationvoters.com
SUMMARY:The Opportunity In Modernizing Vermont’s Renewable Energy Standard
DESCRIPTION:Join us to learn about Vermont’s current Renewable Energy Standard (RES)\, and how its 2032 requirements are not going far enough to help reduce our carbon pollution and combat climate change. A more robust RES that requires 100% renewable energy and more in-state renewable energy generation is the answer Vermont needs. Hear from panelists from VNRC\, Conservation Law Foundation and VPIRG as we dig into the details of proposed changes to the RES and leave time for questions from attendees.
URL:https://vermontconservationvoters.com/event/the-opportunity-in-modernizing-vermonts-renewable-energy-standard/
LOCATION:Zoom
CATEGORIES:Climate
ATTACH;FMTTYPE=image/png:https://vermontconservationvoters.com/wp-content/uploads/2023/12/74b25b34-5698-466d-b292-89cf38fc9ba5.png
END:VEVENT
END:VCALENDAR