BEGIN:VCALENDAR
VERSION:2.0
PRODID:-//Vermont Conservation Voters - ECPv6.9.0//NONSGML v1.0//EN
CALSCALE:GREGORIAN
METHOD:PUBLISH
X-ORIGINAL-URL:https://vermontconservationvoters.com
X-WR-CALDESC:Events for Vermont Conservation Voters
REFRESH-INTERVAL;VALUE=DURATION:PT1H
X-Robots-Tag:noindex
X-PUBLISHED-TTL:PT1H
BEGIN:VTIMEZONE
TZID:America/New_York
BEGIN:DAYLIGHT
TZOFFSETFROM:-0500
TZOFFSETTO:-0400
TZNAME:EDT
DTSTART:20240310T070000
END:DAYLIGHT
BEGIN:STANDARD
TZOFFSETFROM:-0400
TZOFFSETTO:-0500
TZNAME:EST
DTSTART:20241103T060000
END:STANDARD
END:VTIMEZONE
BEGIN:VEVENT
DTSTART;TZID=America/New_York:20240709T183000
DTEND;TZID=America/New_York:20240709T200000
DTSTAMP:20260420T054349
CREATED:20240702T213800Z
LAST-MODIFIED:20240703T144938Z
UID:4944-1720549800-1720555200@vermontconservationvoters.com
SUMMARY:Candidate Forum: Chittenden-Central Senate
DESCRIPTION:2024 Chittenden-Central Senate Candidate Forum \nTuesday\, July 9th\, 2024\n6:30pm-8pm \nONE Community Center\, 20 Allen St\, Burlington\, VT \nJoin Vermont Conservation Voters\, ACLU-VT\, Planned Parenthood of Northern New England\, and VPIRG for an issues-based candidate forum for the Chittenden-Central Senate District featuring candidates Philip Baruth\, Martine Gulick\, Stewart Ledbetter\, and Tanya Vyhovsky.   \nCome to learn more about the candidates as we ask them how they will prioritize climate resilience\, reproductive rights\, criminal justice\, and the legislature’s role in leading the state.
URL:https://vermontconservationvoters.com/event/forum24_chi-c/
LOCATION:ONE Community Center\, 20 Allen St\, Burlington\, VT\, 05401\, United States
CATEGORIES:Elections
ATTACH;FMTTYPE=image/png:https://vermontconservationvoters.com/wp-content/uploads/2024/07/1-1.png
ORGANIZER;CN="Justin Marsh":MAILTO:jmarsh@vermontconservationvoters.org
END:VEVENT
BEGIN:VEVENT
DTSTART;TZID=America/New_York:20240722T183000
DTEND;TZID=America/New_York:20240722T200000
DTSTAMP:20260420T054349
CREATED:20240718T135059Z
LAST-MODIFIED:20240718T142227Z
UID:4983-1721673000-1721678400@vermontconservationvoters.com
SUMMARY:Candidate Forum: Chittenden-13 House
DESCRIPTION:2024 Chittenden-13 House Candidate Forum \nMonday\, July 22\, 2024\n6:30pm-8pm \nHula (Isthmus)\, 50 Lakeside Ave\, Burlington\, VT \nVermont Conservation Voters\, ACLU-VT\, Planned Parenthood of Northern New England\, Rights and Democracy\, and VPIRG have invited the candidates of Chttenden-13 House District\, Dale Azaria\, Tiff Bluemle\, Bram Kleppner\, and Larry Lewack\, to an issues-based candidate forum. \nJoin us to learn more about the candidates as we ask them how they will prioritize climate resilience\, reproductive rights\, criminal justice\, and the legislature’s role in leading the state. \nWe suggest carpooling\, biking\, or walking if possible since parking at Hula is not free. There is a visitor parking lot located at 125 Lakeside Avenue\, with over 750 spaces. The lot is metered via license plate reading technology. Guests can pay for parking onsite by scanning the QR codes that are shown on signage throughout the lot\, or they can register and pay in advance here. Additionally\, handicapped parking is available right outside the main entrance to Hula at 50 Lakeside Avenue. Guests will want to arrive 5-10 minutes early\, as there is a short walk from the lot to the building’s entrance.
URL:https://vermontconservationvoters.com/event/candidate-forum-chittenden-13-house/
LOCATION:Hula\, 50 Lakeside Ave\, Burlington\, United States
CATEGORIES:Elections
ATTACH;FMTTYPE=image/png:https://vermontconservationvoters.com/wp-content/uploads/2024/07/CHI13_Email2.png
ORGANIZER;CN="Justin Marsh":MAILTO:jmarsh@vermontconservationvoters.org
END:VEVENT
BEGIN:VEVENT
DTSTART;TZID=America/New_York:20240730T183000
DTEND;TZID=America/New_York:20240730T200000
DTSTAMP:20260420T054349
CREATED:20240716T184527Z
LAST-MODIFIED:20240716T203641Z
UID:4977-1722364200-1722369600@vermontconservationvoters.com
SUMMARY:Candidate Forum: Bennington-2 House
DESCRIPTION:2024 Bennington-2 House Candidate Forum \nTuesday\, July 30th\, 2024\n6:30pm-8pm \nOld First Church Barn\, 1 Monument Circle\, Bennington\, VT \nVermont Conservation Voters\, ACLU-VT\, Planned Parenthood of Northern New England\, Rights and Democracy\, and VPIRG have invited the candidates of Bennington-2 House District\, Timothy Corcoran II\, Asher Edelson\, Will Greer\, and Leon Johnson\, to an issues-based candidate forum. \nJoin us to learn more about the candidates as we ask them how they will prioritize climate resilience\, reproductive rights\, criminal justice\, and the legislature’s role in leading the state.
URL:https://vermontconservationvoters.com/event/candidate-forum-ben2/
LOCATION:Old First Church Barn\, 1 Monument Circle\, Bennington\, United States
CATEGORIES:Elections
ATTACH;FMTTYPE=image/png:https://vermontconservationvoters.com/wp-content/uploads/2024/07/3.png
ORGANIZER;CN="Justin Marsh":MAILTO:jmarsh@vermontconservationvoters.org
END:VEVENT
END:VCALENDAR