BEGIN:VCALENDAR
VERSION:2.0
PRODID:-//Vermont Conservation Voters - ECPv6.9.0//NONSGML v1.0//EN
CALSCALE:GREGORIAN
METHOD:PUBLISH
X-ORIGINAL-URL:https://vermontconservationvoters.com
X-WR-CALDESC:Events for Vermont Conservation Voters
REFRESH-INTERVAL;VALUE=DURATION:PT1H
X-Robots-Tag:noindex
X-PUBLISHED-TTL:PT1H
BEGIN:VTIMEZONE
TZID:America/New_York
BEGIN:DAYLIGHT
TZOFFSETFROM:-0500
TZOFFSETTO:-0400
TZNAME:EDT
DTSTART:20250309T070000
END:DAYLIGHT
BEGIN:STANDARD
TZOFFSETFROM:-0400
TZOFFSETTO:-0500
TZNAME:EST
DTSTART:20251102T060000
END:STANDARD
END:VTIMEZONE
BEGIN:VEVENT
DTSTART;TZID=America/New_York:20250402T163000
DTEND;TZID=America/New_York:20250402T183000
DTSTAMP:20260419T172325
CREATED:20250204T170252Z
LAST-MODIFIED:20250204T170252Z
UID:5213-1743611400-1743618600@vermontconservationvoters.com
SUMMARY:Green Drinks
DESCRIPTION:Every three weeks\, environmental advocates\, allies\, and legislators gather together to network\, socialize\, and cross-pollinate ideas. \nApril 2nd\n11 Baldwin Street\n4:30-6:30PM \nThere will be light snacks\, drinks\, and good conversation.\nWe hope to see you there!
URL:https://vermontconservationvoters.com/event/green-drinks-3/
LOCATION:Vermont Natural Resources Council\, 11 Baldwin St\, Montpelier\, VT\, 05601\, United States
ATTACH;FMTTYPE=image/png:https://vermontconservationvoters.com/wp-content/uploads/2025/02/Green-Drinks-25.png
END:VEVENT
BEGIN:VEVENT
DTSTART;TZID=America/New_York:20250423T163000
DTEND;TZID=America/New_York:20250423T183000
DTSTAMP:20260419T172325
CREATED:20250204T170347Z
LAST-MODIFIED:20250204T170347Z
UID:5215-1745425800-1745433000@vermontconservationvoters.com
SUMMARY:Green Drinks
DESCRIPTION:Every three weeks\, environmental advocates\, allies\, and legislators gather together to network\, socialize\, and cross-pollinate ideas. \nApril 23rd\n11 Baldwin Street\n4:30-6:30PM \nThere will be light snacks\, drinks\, and good conversation.\nWe hope to see you there!
URL:https://vermontconservationvoters.com/event/green-drinks-4/
LOCATION:Vermont Natural Resources Council\, 11 Baldwin St\, Montpelier\, VT\, 05601\, United States
ATTACH;FMTTYPE=image/png:https://vermontconservationvoters.com/wp-content/uploads/2025/02/Green-Drinks-25.png
END:VEVENT
BEGIN:VEVENT
DTSTART;TZID=America/New_York:20250428T173000
DTEND;TZID=America/New_York:20250428T193000
DTSTAMP:20260419T172325
CREATED:20250313T164158Z
LAST-MODIFIED:20250318T164645Z
UID:5261-1745861400-1745868600@vermontconservationvoters.com
SUMMARY:2025 Environmental Lifetime Achievement Award Reception
DESCRIPTION:On Monday\, April 28th\, we will be honoring former legislators Mark MacDonald and Dick McCormack with our 2025 Environmental Lifetime Achievement Award. \nMark and Dick have a combined 70 years of serving Vermont in the legislature and unwavering commitments to passing and protecting important environmental and climate policies for the state. We hope you will join us in honoring them and their years of service to Vermont.
URL:https://vermontconservationvoters.com/event/2025-environmental-lifetime-achievement-award-reception/
LOCATION:Chandler Center for the Arts\, 71 N Main St\, Randolph\, VT\, 05060\, United States
ATTACH;FMTTYPE=image/png:https://vermontconservationvoters.com/wp-content/uploads/2025/03/MacMc-Awards.png
ORGANIZER;CN="Justin Marsh":MAILTO:jmarsh@vermontconservationvoters.org
END:VEVENT
END:VCALENDAR