BEGIN:VCALENDAR
VERSION:2.0
PRODID:-//Vermont Conservation Voters - ECPv6.9.0//NONSGML v1.0//EN
CALSCALE:GREGORIAN
METHOD:PUBLISH
X-WR-CALNAME:Vermont Conservation Voters
X-ORIGINAL-URL:https://vermontconservationvoters.com
X-WR-CALDESC:Events for Vermont Conservation Voters
REFRESH-INTERVAL;VALUE=DURATION:PT1H
X-Robots-Tag:noindex
X-PUBLISHED-TTL:PT1H
BEGIN:VTIMEZONE
TZID:America/New_York
BEGIN:DAYLIGHT
TZOFFSETFROM:-0500
TZOFFSETTO:-0400
TZNAME:EDT
DTSTART:20250309T070000
END:DAYLIGHT
BEGIN:STANDARD
TZOFFSETFROM:-0400
TZOFFSETTO:-0500
TZNAME:EST
DTSTART:20251102T060000
END:STANDARD
END:VTIMEZONE
BEGIN:VEVENT
DTSTART;TZID=America/New_York:20250806T183000
DTEND;TZID=America/New_York:20250806T200000
DTSTAMP:20260419T113929
CREATED:20250723T140402Z
LAST-MODIFIED:20250723T211622Z
UID:5413-1754505000-1754510400@vermontconservationvoters.com
SUMMARY:Panel: What the Federal Reconciliation Bill Means for Vermonters
DESCRIPTION:What’s really in Trump’s “Big\, Beautiful Bill”\, and what will it mean for you and your family? How will it affect healthcare costs\, food security\, and Vermont’s clean energy economy? \nThere’s a lot of confusion—and concern—about what’s included in this sweeping new federal budget. It’s massive\, packed with rollbacks\, and difficult to understand how it will affect us locally. That’s why we’re hosting a panel to break down the impacts of this sweeping reconciliation package. The event will be held at the Old Shelburne Town Hall (5376 Shelburne Rd\, Shelburne\, VT 05482) on Wednesday\, August 6th from 6:30 PM to 8:00 PM. \nThis event will inform Vermonters about the most significant rollbacks in the bill and how they could impact our communities–from healthcare and food security to clean energy and climate action. Panelists from VPIRG\, Planned Parenthood\, and HungerFreeVT will outline the local consequences of recent federal decisions\, chart the path forward for protecting Vermonters from its worst impacts\, and let you know what YOU can do to make a difference. \nThe evening will include:  \n\nAn overview of the bill’s key provisions\nA deep dive into specific issue areas (food security\, healthcare\, energy & climate)\nOpportunities for an audience Q&A\n\nIf you’re overwhelmed\, uncertain\, or just want to make a little more sense of the moment we’re in right now\, join us to get informed\, ask questions\, and connect with others who care about our state’s future. \nRSVP: https://secure.everyaction.com/Cg3hHCuZukG2b4ic1bxvdA2
URL:https://vermontconservationvoters.com/event/panel-what-the-federal-reconciliation-bill-means-for-vermonters/
LOCATION:Old Shelburne Town Hall\, 5376 Shelburne Rd\, Shelburne\, VT\, United States
ATTACH;FMTTYPE=image/jpeg:https://vermontconservationvoters.com/wp-content/uploads/2025/07/Federal-Impacts-Panel-Email-Banner-1-scaled-1.jpg
ORGANIZER;CN="Jack Pitblado":MAILTO:jpitblado@vnrc.org
END:VEVENT
END:VCALENDAR